BEGIN:VCALENDAR
VERSION:2.0
PRODID:-//Contratero//ES
CALSCALE:GREGORIAN
METHOD:PUBLISH
BEGIN:VEVENT
UID:2018/D22200/006-302/00001@contratero.es
DTSTAMP:20260419T220923Z
DTSTART:20180416T235959
DTEND:20180417T005959
SUMMARY:Cierre: Descrito en el anexo I del Pliego de Cláusulas Adm
DESCRIPTION:Descrito en el anexo I del Pliego de Cláusulas Administrativas Particulares.\\n\\nOrganismo: Junta de Gobierno de la Diputación Provincial de Almería\\n\\nVer en Contratero: https://contratero.es/contracts/2018/D22200/006-302/00001
URL:https://contratero.es/contracts/2018/D22200/006-302/00001
STATUS:CONFIRMED
BEGIN:VALARM
TRIGGER:-P1D
ACTION:DISPLAY
DESCRIPTION:Recordatorio: Descrito en el anexo I del Pli
END:VALARM
END:VEVENT
END:VCALENDAR