BEGIN:VCALENDAR
VERSION:2.0
PRODID:-//Contratero//ES
CALSCALE:GREGORIAN
METHOD:PUBLISH
BEGIN:VEVENT
UID:2018/RJUC-SERV/22@contratero.es
DTSTAMP:20260425T163509Z
DTSTART:20210625T235959
DTEND:20210626T005959
SUMMARY:Cierre: Servicio de Gestión de nóminas\, seguros sociales\, 
DESCRIPTION:Servicio de Gestión de nóminas\, seguros sociales\, IRPF y contratación\, así como el derecho a uso de un sistema informático integral para la gestión de Recursos Humanos\\n\\nOrganismo: Alcaldía del Ayuntamiento de Aldaia\\n\\nVer en Contratero: https://contratero.es/contracts/2018/RJUC-SERV/22
URL:https://contratero.es/contracts/2018/RJUC-SERV/22
STATUS:CONFIRMED
BEGIN:VALARM
TRIGGER:-P1D
ACTION:DISPLAY
DESCRIPTION:Recordatorio: Servicio de Gestión de nóminas
END:VALARM
END:VEVENT
END:VCALENDAR