BEGIN:VCALENDAR
VERSION:2.0
PRODID:-//Contratero//ES
CALSCALE:GREGORIAN
METHOD:PUBLISH
BEGIN:VEVENT
UID:20180000178T@contratero.es
DTSTAMP:20260423T062858Z
DTSTART:20190204T235959
DTEND:20190205T005959
SUMMARY:Cierre: Desarrollo y mantenimiento de los portales WEB y e
DESCRIPTION:Desarrollo y mantenimiento de los portales WEB y el SIG Corporativo del Ministerio de Agricultura\, Pesca y Alimentación y del Ministerio para la Transición Ecológica.\\n\\nOrganismo: Junta de Contratación del Ministerio de Agricultura\, Alimentación y Medio Ambiente\\n\\nVer en Contratero: https://contratero.es/contracts/20180000178T
URL:https://contratero.es/contracts/20180000178T
STATUS:CONFIRMED
BEGIN:VALARM
TRIGGER:-P1D
ACTION:DISPLAY
DESCRIPTION:Recordatorio: Desarrollo y mantenimiento de 
END:VALARM
END:VEVENT
END:VCALENDAR