BEGIN:VCALENDAR
VERSION:2.0
PRODID:-//Contratero//ES
CALSCALE:GREGORIAN
METHOD:PUBLISH
BEGIN:VEVENT
UID:201800005106@contratero.es
DTSTAMP:20260425T200305Z
DTSTART:20190102T235959
DTEND:20190103T005959
SUMMARY:Cierre: Servicio de mantenimiento y soporte a la administr
DESCRIPTION:Servicio de mantenimiento y soporte a la administración del Banco Nacional de Datos Climatológicos\\n\\nOrganismo: Presidencia de la Agencia Estatal de Meteorología\\n\\nVer en Contratero: https://contratero.es/contracts/201800005106
URL:https://contratero.es/contracts/201800005106
STATUS:CONFIRMED
BEGIN:VALARM
TRIGGER:-P1D
ACTION:DISPLAY
DESCRIPTION:Recordatorio: Servicio de mantenimiento y so
END:VALARM
END:VEVENT
END:VCALENDAR