BEGIN:VCALENDAR
VERSION:2.0
PRODID:-//Contratero//ES
CALSCALE:GREGORIAN
METHOD:PUBLISH
BEGIN:VEVENT
UID:20180305-00161@contratero.es
DTSTAMP:20260423T094038Z
DTSTART:20180503T235959
DTEND:20180504T005959
SUMMARY:Cierre: Acuerdo Marco para la contratación de servicios de
DESCRIPTION:Acuerdo Marco para la contratación de servicios de centro de atención a usuarios (CAU)\,centro de atención a empresa (CAE) 24x7 y oficina de transformación digital (OTD)\\n\\nOrganismo: Ineco-Dirección Corporativa\\n\\nVer en Contratero: https://contratero.es/contracts/20180305-00161
URL:https://contratero.es/contracts/20180305-00161
STATUS:CONFIRMED
BEGIN:VALARM
TRIGGER:-P1D
ACTION:DISPLAY
DESCRIPTION:Recordatorio: Acuerdo Marco para la contrata
END:VALARM
END:VEVENT
END:VCALENDAR