BEGIN:VCALENDAR
VERSION:2.0
PRODID:-//Contratero//ES
CALSCALE:GREGORIAN
METHOD:PUBLISH
BEGIN:VEVENT
UID:201812PA0002@contratero.es
DTSTAMP:20260426T022456Z
DTSTART:20180717T235959
DTEND:20180718T005959
SUMMARY:Cierre: Ordenación\, codificación y grabación relativo a la
DESCRIPTION:Ordenación\, codificación y grabación relativo a las pruebas selectivas 2018\\n\\nOrganismo: Dirección General de Ordenación Profesional\\n\\nVer en Contratero: https://contratero.es/contracts/201812PA0002
URL:https://contratero.es/contracts/201812PA0002
STATUS:CONFIRMED
BEGIN:VALARM
TRIGGER:-P1D
ACTION:DISPLAY
DESCRIPTION:Recordatorio: Ordenación\, codificación y gra
END:VALARM
END:VEVENT
END:VCALENDAR