BEGIN:VCALENDAR
VERSION:2.0
PRODID:-//Contratero//ES
CALSCALE:GREGORIAN
METHOD:PUBLISH
BEGIN:VEVENT
UID:2019-00296@contratero.es
DTSTAMP:20260424T231301Z
DTSTART:20200630T235959
DTEND:20200701T005959
SUMMARY:Cierre: Migración a Windows 10 de la Autoridad Portuaria d
DESCRIPTION:Migración a Windows 10 de la Autoridad Portuaria de Barcelona.- Clave de expediente: 2019R330053\\n\\nOrganismo: Presidencia del Consejo de Administración de la Autoridad Portuaria de Barcelona (PORT DE BARCELONA)\\n\\nVer en Contratero: https://contratero.es/contracts/2019-00296
URL:https://contratero.es/contracts/2019-00296
STATUS:CONFIRMED
BEGIN:VALARM
TRIGGER:-P1D
ACTION:DISPLAY
DESCRIPTION:Recordatorio: Migración a Windows 10 de la A
END:VALARM
END:VEVENT
END:VCALENDAR