BEGIN:VCALENDAR
VERSION:2.0
PRODID:-//Contratero//ES
CALSCALE:GREGORIAN
METHOD:PUBLISH
BEGIN:VEVENT
UID:2019-00323@contratero.es
DTSTAMP:20260423T000713Z
DTSTART:20200904T235959
DTEND:20200905T005959
SUMMARY:Cierre: Acuerdo Marco para el suministro\, instalación y ma
DESCRIPTION:Acuerdo Marco para el suministro\, instalación y mantenimiento del nuevo sistema de integración y gestión de videocámaras para el centro de control del Puerto de Barcelona. Clave de expediente: 2019R32...\\n\\nOrganismo: Presidencia del Consejo de Administración de la Autoridad Portuaria de Barcelona (PORT DE BARCELONA)\\n\\nVer en Contratero: https://contratero.es/contracts/2019-00323
URL:https://contratero.es/contracts/2019-00323
STATUS:CONFIRMED
BEGIN:VALARM
TRIGGER:-P1D
ACTION:DISPLAY
DESCRIPTION:Recordatorio: Acuerdo Marco para el suminist
END:VALARM
END:VEVENT
END:VCALENDAR