BEGIN:VCALENDAR
VERSION:2.0
PRODID:-//Contratero//ES
CALSCALE:GREGORIAN
METHOD:PUBLISH
BEGIN:VEVENT
UID:2019-01859@contratero.es
DTSTAMP:20260420T041714Z
DTSTART:20191030T235959
DTEND:20191031T005959
SUMMARY:Cierre: Servicios especializados en gestión de la base de 
DESCRIPTION:Servicios especializados en gestión de la base de datos de la tarjeta sanitaria para conseguir la mejora en la consistencia y calidad de los datos y en el soporte a las Comunidades Autónomas\\n\\nOrganismo: Consejero Delegado de Ingeniería de Sistemas para la Defensa de España S.A.\, S.M.E. y M.P.\\n\\nVer en Contratero: https://contratero.es/contracts/2019-01859
URL:https://contratero.es/contracts/2019-01859
STATUS:CONFIRMED
BEGIN:VALARM
TRIGGER:-P1D
ACTION:DISPLAY
DESCRIPTION:Recordatorio: Servicios especializados en ge
END:VALARM
END:VEVENT
END:VCALENDAR