BEGIN:VCALENDAR
VERSION:2.0
PRODID:-//Contratero//ES
CALSCALE:GREGORIAN
METHOD:PUBLISH
BEGIN:VEVENT
UID:2019/00017286X@contratero.es
DTSTAMP:20260421T142104Z
DTSTART:20191217T235959
DTEND:20191218T005959
SUMMARY:Cierre: Servicio de gestión y renovación de la cartera de 
DESCRIPTION:Servicio de gestión y renovación de la cartera de dominios de internet y la gestión de los DNS asociados\\n\\nOrganismo: Alcaldia del Ayuntamiento de Vila-real\\n\\nVer en Contratero: https://contratero.es/contracts/2019/00017286X
URL:https://contratero.es/contracts/2019/00017286X
STATUS:CONFIRMED
BEGIN:VALARM
TRIGGER:-P1D
ACTION:DISPLAY
DESCRIPTION:Recordatorio: Servicio de gestión y renovaci
END:VALARM
END:VEVENT
END:VCALENDAR