BEGIN:VCALENDAR
VERSION:2.0
PRODID:-//Contratero//ES
CALSCALE:GREGORIAN
METHOD:PUBLISH
BEGIN:VEVENT
UID:2019/003182@contratero.es
DTSTAMP:20260425T195533Z
DTSTART:20190510T235959
DTEND:20190511T005959
SUMMARY:Cierre: Sº de procesado de datos y codificación automática
DESCRIPTION:Sº de procesado de datos y codificación automática para episodios clínicos del Hospital Virgen de la Luz perteneciente a la Gerencia de Atención Integrada de Cuenca-61033000CU19SER00017\\n\\nOrganismo: Gerencia de Atención Integrada de Cuenca\\n\\nVer en Contratero: https://contratero.es/contracts/2019/003182
URL:https://contratero.es/contracts/2019/003182
STATUS:CONFIRMED
BEGIN:VALARM
TRIGGER:-P1D
ACTION:DISPLAY
DESCRIPTION:Recordatorio: Sº de procesado de datos y cod
END:VALARM
END:VEVENT
END:VCALENDAR