BEGIN:VCALENDAR
VERSION:2.0
PRODID:-//Contratero//ES
CALSCALE:GREGORIAN
METHOD:PUBLISH
BEGIN:VEVENT
UID:2019/003190@contratero.es
DTSTAMP:20260425T200305Z
DTSTART:20190506T235959
DTEND:20190507T005959
SUMMARY:Cierre: Servicio de procesado de datos y codificación auto
DESCRIPTION:Servicio de procesado de datos y codificación automática para episodios clínicos del HGUCR-61032000CR19SER00019\\n\\nOrganismo: Gerencia de Atención Integrada de Ciudad Real\\n\\nVer en Contratero: https://contratero.es/contracts/2019/003190
URL:https://contratero.es/contracts/2019/003190
STATUS:CONFIRMED
BEGIN:VALARM
TRIGGER:-P1D
ACTION:DISPLAY
DESCRIPTION:Recordatorio: Servicio de procesado de datos
END:VALARM
END:VEVENT
END:VCALENDAR