BEGIN:VCALENDAR
VERSION:2.0
PRODID:-//Contratero//ES
CALSCALE:GREGORIAN
METHOD:PUBLISH
BEGIN:VEVENT
UID:2019/003210@contratero.es
DTSTAMP:20260425T200419Z
DTSTART:20190507T235959
DTEND:20190508T005959
SUMMARY:Cierre: Servicio de procesado de datos y codificación auto
DESCRIPTION:Servicio de procesado de datos y codificación automática para episodios clínicos del Hospital Virgen de Altagracia de Manzanares-61032500CR19SER00001\\n\\nOrganismo: Gerencia del Area de Atención Integrada de Manzanares\\n\\nVer en Contratero: https://contratero.es/contracts/2019/003210
URL:https://contratero.es/contracts/2019/003210
STATUS:CONFIRMED
BEGIN:VALARM
TRIGGER:-P1D
ACTION:DISPLAY
DESCRIPTION:Recordatorio: Servicio de procesado de datos
END:VALARM
END:VEVENT
END:VCALENDAR