BEGIN:VCALENDAR
VERSION:2.0
PRODID:-//Contratero//ES
CALSCALE:GREGORIAN
METHOD:PUBLISH
BEGIN:VEVENT
UID:2019/003239@contratero.es
DTSTAMP:20260425T195244Z
DTSTART:20190510T235959
DTEND:20190511T005959
SUMMARY:Cierre: Servicio de procesado de datos y codificación auto
DESCRIPTION:Servicio de procesado de datos y codificación automática para episodios clínicos de la Gerencia de Atención Integrada de Albacete -61031000AB19SER00027\\n\\nOrganismo: Gerencia de Atención Integrada de Albacete\\n\\nVer en Contratero: https://contratero.es/contracts/2019/003239
URL:https://contratero.es/contracts/2019/003239
STATUS:CONFIRMED
BEGIN:VALARM
TRIGGER:-P1D
ACTION:DISPLAY
DESCRIPTION:Recordatorio: Servicio de procesado de datos
END:VALARM
END:VEVENT
END:VCALENDAR