BEGIN:VCALENDAR
VERSION:2.0
PRODID:-//Contratero//ES
CALSCALE:GREGORIAN
METHOD:PUBLISH
BEGIN:VEVENT
UID:2019/003378@contratero.es
DTSTAMP:20260425T200420Z
DTSTART:20190513T235959
DTEND:20190514T005959
SUMMARY:Cierre: Servicio de procesado de datos y codificación  aut
DESCRIPTION:Servicio de procesado de datos y codificación  automática para episodios clínicos del Complejo Hospitalario de Toledo.-61035000TO19SER00011\\n\\nOrganismo: Dirección Gerencia del Complejo Hospitalario de Toledo\\n\\nVer en Contratero: https://contratero.es/contracts/2019/003378
URL:https://contratero.es/contracts/2019/003378
STATUS:CONFIRMED
BEGIN:VALARM
TRIGGER:-P1D
ACTION:DISPLAY
DESCRIPTION:Recordatorio: Servicio de procesado de datos
END:VALARM
END:VEVENT
END:VCALENDAR