BEGIN:VCALENDAR
VERSION:2.0
PRODID:-//Contratero//ES
CALSCALE:GREGORIAN
METHOD:PUBLISH
BEGIN:VEVENT
UID:2019/0057004/020@contratero.es
DTSTAMP:20260421T105114Z
DTSTART:20200521T235959
DTEND:20200522T005959
SUMMARY:Cierre: servicio/Suministro wifi4 eu fomento de la conecti
DESCRIPTION:servicio/Suministro wifi4 eu fomento de la conectividad a internet de las comunidades locales conforme al pliego de prescripciones técnicas y administrativas.\\n\\nOrganismo: Alcaldía del Ayuntamiento de Bornos\\n\\nVer en Contratero: https://contratero.es/contracts/2019/0057004/020
URL:https://contratero.es/contracts/2019/0057004/020
STATUS:CONFIRMED
BEGIN:VALARM
TRIGGER:-P1D
ACTION:DISPLAY
DESCRIPTION:Recordatorio: servicio/Suministro wifi4 eu f
END:VALARM
END:VEVENT
END:VCALENDAR