BEGIN:VCALENDAR
VERSION:2.0
PRODID:-//Contratero//ES
CALSCALE:GREGORIAN
METHOD:PUBLISH
BEGIN:VEVENT
UID:2019/7309@contratero.es
DTSTAMP:20260425T025109Z
DTSTART:20191203T235959
DTEND:20191204T005959
SUMMARY:Cierre: Suscripción de licencias software para automatizac
DESCRIPTION:Suscripción de licencias software para automatización de procesos\, tecnología Robotic Process Automation (RPA) y servicios de puesta en marcha y traspaso de conocimientos.\\n\\nOrganismo: Gerencia de Informática de la Seguridad Social\\n\\nVer en Contratero: https://contratero.es/contracts/2019/7309
URL:https://contratero.es/contracts/2019/7309
STATUS:CONFIRMED
BEGIN:VALARM
TRIGGER:-P1D
ACTION:DISPLAY
DESCRIPTION:Recordatorio: Suscripción de licencias softw
END:VALARM
END:VEVENT
END:VCALENDAR