BEGIN:VCALENDAR
VERSION:2.0
PRODID:-//Contratero//ES
CALSCALE:GREGORIAN
METHOD:PUBLISH
BEGIN:VEVENT
UID:2019/7404@contratero.es
DTSTAMP:20260424T013228Z
DTSTART:20200615T235959
DTEND:20200616T005959
SUMMARY:Cierre: Servicio de mantenimiento de las licencias del pro
DESCRIPTION:Servicio de mantenimiento de las licencias del programa Presto durante dos años con destino a la Oficina Técnica de la Tesorería General de la Seguridad Social.\\n\\nOrganismo: Gerencia de Informática de la Seguridad Social\\n\\nVer en Contratero: https://contratero.es/contracts/2019/7404
URL:https://contratero.es/contracts/2019/7404
STATUS:CONFIRMED
BEGIN:VALARM
TRIGGER:-P1D
ACTION:DISPLAY
DESCRIPTION:Recordatorio: Servicio de mantenimiento de l
END:VALARM
END:VEVENT
END:VCALENDAR