BEGIN:VCALENDAR
VERSION:2.0
PRODID:-//Contratero//ES
CALSCALE:GREGORIAN
METHOD:PUBLISH
BEGIN:VEVENT
UID:2019/A/SUM/0003@contratero.es
DTSTAMP:20260424T171217Z
DTSTART:20190322T235959
DTEND:20190323T005959
SUMMARY:Cierre: Transformación Digital de MAZ M.C.S.S. nº 11
DESCRIPTION:Transformación Digital de MAZ M.C.S.S. nº 11\\n\\nOrganismo: Gerencia de MAZ Mútua de Accidentes de Trabajo y Enfermedades Profesionales de la Seguridad Social nº  11\\n\\nVer en Contratero: https://contratero.es/contracts/2019/A/SUM/0003
URL:https://contratero.es/contracts/2019/A/SUM/0003
STATUS:CONFIRMED
BEGIN:VALARM
TRIGGER:-P1D
ACTION:DISPLAY
DESCRIPTION:Recordatorio: Transformación Digital de MAZ 
END:VALARM
END:VEVENT
END:VCALENDAR