BEGIN:VCALENDAR
VERSION:2.0
PRODID:-//Contratero//ES
CALSCALE:GREGORIAN
METHOD:PUBLISH
BEGIN:VEVENT
UID:2019/CONT/00105@contratero.es
DTSTAMP:20260420T021108Z
DTSTART:20191205T235959
DTEND:20191206T005959
SUMMARY:Cierre: Servicio de líneas de datos e Internet del Ayuntam
DESCRIPTION:Servicio de líneas de datos e Internet del Ayuntamiento de Crevillent\\n\\nOrganismo: Alcaldía del Ayuntamiento de Crevillent\\n\\nVer en Contratero: https://contratero.es/contracts/2019/CONT/00105
URL:https://contratero.es/contracts/2019/CONT/00105
STATUS:CONFIRMED
BEGIN:VALARM
TRIGGER:-P1D
ACTION:DISPLAY
DESCRIPTION:Recordatorio: Servicio de líneas de datos e 
END:VALARM
END:VEVENT
END:VCALENDAR