BEGIN:VCALENDAR
VERSION:2.0
PRODID:-//Contratero//ES
CALSCALE:GREGORIAN
METHOD:PUBLISH
BEGIN:VEVENT
UID:201900000122@contratero.es
DTSTAMP:20260423T001441Z
DTSTART:20200131T235959
DTEND:20200201T005959
SUMMARY:Cierre: Contratación de la infraestructura como servicio (
DESCRIPTION:Contratación de la infraestructura como servicio (IaaS) en modo nube privada para el Ministerio de Ciencia\, Innovación y Universidades y la Agencia Estatal de Investigación\\n\\nOrganismo: Subsecretaría de Ciencia e Innovación\\n\\nVer en Contratero: https://contratero.es/contracts/201900000122
URL:https://contratero.es/contracts/201900000122
STATUS:CONFIRMED
BEGIN:VALARM
TRIGGER:-P1D
ACTION:DISPLAY
DESCRIPTION:Recordatorio: Contratación de la infraestruc
END:VALARM
END:VEVENT
END:VCALENDAR