BEGIN:VCALENDAR
VERSION:2.0
PRODID:-//Contratero//ES
CALSCALE:GREGORIAN
METHOD:PUBLISH
BEGIN:VEVENT
UID:2019038946@contratero.es
DTSTAMP:20260425T113501Z
DTSTART:20191025T235959
DTEND:20191026T005959
SUMMARY:Cierre: servicio de mantenimiento\, asistencia y apoyo a la
DESCRIPTION:servicio de mantenimiento\, asistencia y apoyo a la explotación del sistema de gestión económico-financiera sical\\n\\nOrganismo: Presidencia de la Diputación Provincial de Pontevedra\\n\\nVer en Contratero: https://contratero.es/contracts/2019038946
URL:https://contratero.es/contracts/2019038946
STATUS:CONFIRMED
BEGIN:VALARM
TRIGGER:-P1D
ACTION:DISPLAY
DESCRIPTION:Recordatorio: servicio de mantenimiento\, asi
END:VALARM
END:VEVENT
END:VCALENDAR