BEGIN:VCALENDAR
VERSION:2.0
PRODID:-//Contratero//ES
CALSCALE:GREGORIAN
METHOD:PUBLISH
BEGIN:VEVENT
UID:2019040069@contratero.es
DTSTAMP:20260420T041237Z
DTSTART:20191030T235959
DTEND:20191031T005959
SUMMARY:Cierre: mantenimiento\, asistencia y apoyo del software de 
DESCRIPTION:mantenimiento\, asistencia y apoyo del software de padrón de tasas del oral\, para el año 2020 y 2021\\n\\nOrganismo: Presidencia de la Diputación Provincial de Pontevedra\\n\\nVer en Contratero: https://contratero.es/contracts/2019040069
URL:https://contratero.es/contracts/2019040069
STATUS:CONFIRMED
BEGIN:VALARM
TRIGGER:-P1D
ACTION:DISPLAY
DESCRIPTION:Recordatorio: mantenimiento\, asistencia y ap
END:VALARM
END:VEVENT
END:VCALENDAR