BEGIN:VCALENDAR
VERSION:2.0
PRODID:-//Contratero//ES
CALSCALE:GREGORIAN
METHOD:PUBLISH
BEGIN:VEVENT
UID:201904060GB@contratero.es
DTSTAMP:20260425T123818Z
DTSTART:20190823T235959
DTEND:20190824T005959
SUMMARY:Cierre: Contratación de licencias de software de Microsoft
DESCRIPTION:Contratación de licencias de software de Microsoft\\n\\nOrganismo: Presidencia del Centro Informático Municipal de Bilbao\, S.A.\\n\\nVer en Contratero: https://contratero.es/contracts/201904060GB
URL:https://contratero.es/contracts/201904060GB
STATUS:CONFIRMED
BEGIN:VALARM
TRIGGER:-P1D
ACTION:DISPLAY
DESCRIPTION:Recordatorio: Contratación de licencias de s
END:VALARM
END:VEVENT
END:VCALENDAR