BEGIN:VCALENDAR
VERSION:2.0
PRODID:-//Contratero//ES
CALSCALE:GREGORIAN
METHOD:PUBLISH
BEGIN:VEVENT
UID:201907PN0001@contratero.es
DTSTAMP:20260425T130735Z
DTSTART:20190527T235959
DTEND:20190528T005959
SUMMARY:Cierre: Estimación de pesos y costes de los procesos hospi
DESCRIPTION:Estimación de pesos y costes de los procesos hospitalarios en el Sistema Nacional de Salud\\n\\nOrganismo: Dirección General de Salud Pública\, Calidad e Innovación\\n\\nVer en Contratero: https://contratero.es/contracts/201907PN0001
URL:https://contratero.es/contracts/201907PN0001
STATUS:CONFIRMED
BEGIN:VALARM
TRIGGER:-P1D
ACTION:DISPLAY
DESCRIPTION:Recordatorio: Estimación de pesos y costes d
END:VALARM
END:VEVENT
END:VCALENDAR