BEGIN:VCALENDAR
VERSION:2.0
PRODID:-//Contratero//ES
CALSCALE:GREGORIAN
METHOD:PUBLISH
BEGIN:VEVENT
UID:2020-00224@contratero.es
DTSTAMP:20260424T184411Z
DTSTART:20210310T235959
DTEND:20210311T005959
SUMMARY:Cierre: Servicio de desarrollo evolutivo software del sist
DESCRIPTION:Servicio de desarrollo evolutivo software del sistema de Centro de Control Unificado de Ticketing (ARION) de Renfe Viajeros S.M.E.\, S.A.\\n\\nOrganismo: Dirección General de Renfe Viajeros Sociedad Mercantil Estatal\, S.A.\\n\\nVer en Contratero: https://contratero.es/contracts/2020-00224
URL:https://contratero.es/contracts/2020-00224
STATUS:CONFIRMED
BEGIN:VALARM
TRIGGER:-P1D
ACTION:DISPLAY
DESCRIPTION:Recordatorio: Servicio de desarrollo evoluti
END:VALARM
END:VEVENT
END:VCALENDAR