BEGIN:VCALENDAR
VERSION:2.0
PRODID:-//Contratero//ES
CALSCALE:GREGORIAN
METHOD:PUBLISH
BEGIN:VEVENT
UID:2020-01586@contratero.es
DTSTAMP:20260424T190709Z
DTSTART:20201201T235959
DTEND:20201202T005959
SUMMARY:Cierre: Contratación del servicio de apoyo técnico especia
DESCRIPTION:Contratación del servicio de apoyo técnico especializado para las actividades desempeñadas en la Oficina de Control Económico y Material.\\n\\nOrganismo: Consejero Delegado de Ingeniería de Sistemas para la Defensa de España S.A.\, S.M.E. y M.P.\\n\\nVer en Contratero: https://contratero.es/contracts/2020-01586
URL:https://contratero.es/contracts/2020-01586
STATUS:CONFIRMED
BEGIN:VALARM
TRIGGER:-P1D
ACTION:DISPLAY
DESCRIPTION:Recordatorio: Contratación del servicio de a
END:VALARM
END:VEVENT
END:VCALENDAR