BEGIN:VCALENDAR
VERSION:2.0
PRODID:-//Contratero//ES
CALSCALE:GREGORIAN
METHOD:PUBLISH
BEGIN:VEVENT
UID:2020-063@contratero.es
DTSTAMP:20260426T035116Z
DTSTART:20201204T235959
DTEND:20201205T005959
SUMMARY:Cierre: Acuerdo Marco para el Desarrollo\, Implantación y E
DESCRIPTION:Acuerdo Marco para el Desarrollo\, Implantación y Evolución de Servicios de Valor Añadido en el nuevo Port Community System del Puerto Bahía de Algeciras (Teleport 2.0)\\n\\nOrganismo: Presidencia de la Autoridad Portuaria de la Bahía de Algeciras\\n\\nVer en Contratero: https://contratero.es/contracts/2020-063
URL:https://contratero.es/contracts/2020-063
STATUS:CONFIRMED
BEGIN:VALARM
TRIGGER:-P1D
ACTION:DISPLAY
DESCRIPTION:Recordatorio: Acuerdo Marco para el Desarrol
END:VALARM
END:VEVENT
END:VCALENDAR