BEGIN:VCALENDAR
VERSION:2.0
PRODID:-//Contratero//ES
CALSCALE:GREGORIAN
METHOD:PUBLISH
BEGIN:VEVENT
UID:2020-SES-052@contratero.es
DTSTAMP:20260425T191803Z
DTSTART:20210107T235959
DTEND:20210108T005959
SUMMARY:Cierre: Mantenimiento y Actualización de productos SWIVEL 
DESCRIPTION:Mantenimiento y Actualización de productos SWIVEL SECURE\, para MUTUA BALEAR\\n\\nOrganismo: Dirección Gerencia de Mutua Balear\, Mutua de Accidentes de Trabajo y Enfermedades Profesionales de la Seguridad Social Nº 183\\n\\nVer en Contratero: https://contratero.es/contracts/2020-SES-052
URL:https://contratero.es/contracts/2020-SES-052
STATUS:CONFIRMED
BEGIN:VALARM
TRIGGER:-P1D
ACTION:DISPLAY
DESCRIPTION:Recordatorio: Mantenimiento y Actualización 
END:VALARM
END:VEVENT
END:VCALENDAR