BEGIN:VCALENDAR
VERSION:2.0
PRODID:-//Contratero//ES
CALSCALE:GREGORIAN
METHOD:PUBLISH
BEGIN:VEVENT
UID:2020/000017@contratero.es
DTSTAMP:20260425T011241Z
DTSTART:20200713T235959
DTEND:20200714T005959
SUMMARY:Cierre: Adquisición de una licencia corporativa y multiusu
DESCRIPTION:Adquisición de una licencia corporativa y multiusuario de uso de software de agrupación\, necesario para la clasificación de los episodios del RAE-CLM hospitalario.-6102TO20SUM00002\\n\\nOrganismo: Secretaria General del Servicio de Salud de Castilla-La Mancha\\n\\nVer en Contratero: https://contratero.es/contracts/2020/000017
URL:https://contratero.es/contracts/2020/000017
STATUS:CONFIRMED
BEGIN:VALARM
TRIGGER:-P1D
ACTION:DISPLAY
DESCRIPTION:Recordatorio: Adquisición de una licencia co
END:VALARM
END:VEVENT
END:VCALENDAR