BEGIN:VCALENDAR
VERSION:2.0
PRODID:-//Contratero//ES
CALSCALE:GREGORIAN
METHOD:PUBLISH
BEGIN:VEVENT
UID:2020/00009966g@contratero.es
DTSTAMP:20260421T072230Z
DTSTART:20210122T235959
DTEND:20210123T005959
SUMMARY:Cierre: contrato para el servicio de mantenimiento del pro
DESCRIPTION:contrato para el servicio de mantenimiento del programa app móvil “mi pueblo” del ayuntamiento de aranda de duero.\\n\\nOrganismo: Junta de Gobierno del Ayuntamiento de Aranda de Duero\\n\\nVer en Contratero: https://contratero.es/contracts/2020/00009966g
URL:https://contratero.es/contracts/2020/00009966g
STATUS:CONFIRMED
BEGIN:VALARM
TRIGGER:-P1D
ACTION:DISPLAY
DESCRIPTION:Recordatorio: contrato para el servicio de m
END:VALARM
END:VEVENT
END:VCALENDAR