BEGIN:VCALENDAR
VERSION:2.0
PRODID:-//Contratero//ES
CALSCALE:GREGORIAN
METHOD:PUBLISH
BEGIN:VEVENT
UID:2020/000559-PCA@contratero.es
DTSTAMP:20260424T215011Z
DTSTART:20201012T235959
DTEND:20201013T005959
SUMMARY:Cierre: Suministro de liciencias e infraestructura de segu
DESCRIPTION:Suministro de liciencias e infraestructura de seguridad para los sistemas de información de la Diputación de Sevilla (Red Corporativa y Red Tarsis).\\n\\nOrganismo: Presidencia de la Diputación Provincial de Sevilla\\n\\nVer en Contratero: https://contratero.es/contracts/2020/000559-PCA
URL:https://contratero.es/contracts/2020/000559-PCA
STATUS:CONFIRMED
BEGIN:VALARM
TRIGGER:-P1D
ACTION:DISPLAY
DESCRIPTION:Recordatorio: Suministro de liciencias e inf
END:VALARM
END:VEVENT
END:VCALENDAR