BEGIN:VCALENDAR
VERSION:2.0
PRODID:-//Contratero//ES
CALSCALE:GREGORIAN
METHOD:PUBLISH
BEGIN:VEVENT
UID:2020/00076@contratero.es
DTSTAMP:20260423T182427Z
DTSTART:20200918T235959
DTEND:20200919T005959
SUMMARY:Cierre: Suministro de licencias de uso\, instalación\, mante
DESCRIPTION:Suministro de licencias de uso\, instalación\, mantenimiento\, explotación y soporte de una solución informática para la Gestión de los Recursos Humanos y la Gestión Económica-Financiera de la Universida...\\n\\nOrganismo: Rectorado de la Universidad de Córdoba\\n\\nVer en Contratero: https://contratero.es/contracts/2020/00076
URL:https://contratero.es/contracts/2020/00076
STATUS:CONFIRMED
BEGIN:VALARM
TRIGGER:-P1D
ACTION:DISPLAY
DESCRIPTION:Recordatorio: Suministro de licencias de uso
END:VALARM
END:VEVENT
END:VCALENDAR