BEGIN:VCALENDAR
VERSION:2.0
PRODID:-//Contratero//ES
CALSCALE:GREGORIAN
METHOD:PUBLISH
BEGIN:VEVENT
UID:2020/001742@contratero.es
DTSTAMP:20260425T191432Z
DTSTART:20201214T235959
DTEND:20201215T005959
SUMMARY:Cierre: Servicio de programa o aplicativo informático (sol
DESCRIPTION:Servicio de programa o aplicativo informático (solución en la nube\, entorno web) para la gestión de los informes de intervención de fiscalización limitada previa de requisitos básicos del Ayuntamiento...\\n\\nOrganismo: Junta de Gobierno Local del Ayuntamiento de Fuenlabrada\\n\\nVer en Contratero: https://contratero.es/contracts/2020/001742
URL:https://contratero.es/contracts/2020/001742
STATUS:CONFIRMED
BEGIN:VALARM
TRIGGER:-P1D
ACTION:DISPLAY
DESCRIPTION:Recordatorio: Servicio de programa o aplicat
END:VALARM
END:VEVENT
END:VCALENDAR