BEGIN:VCALENDAR
VERSION:2.0
PRODID:-//Contratero//ES
CALSCALE:GREGORIAN
METHOD:PUBLISH
BEGIN:VEVENT
UID:2020/003307@contratero.es
DTSTAMP:20260423T080924Z
DTSTART:20201023T235959
DTEND:20201024T005959
SUMMARY:Cierre: Acceso a los servicios web de Google Maps\, junto c
DESCRIPTION:Acceso a los servicios web de Google Maps\, junto con su soporte técnico\, para la utilización de la cartografía de Google en la plataforma tecnológica del 112 de C-LM-1502TO20SER00117\\n\\nOrganismo: Secretaría General de la Consejería de Hacienda y Administraciones Públicas de la Junta de Comunidades de Castilla-La Mancha\\n\\nVer en Contratero: https://contratero.es/contracts/2020/003307
URL:https://contratero.es/contracts/2020/003307
STATUS:CONFIRMED
BEGIN:VALARM
TRIGGER:-P1D
ACTION:DISPLAY
DESCRIPTION:Recordatorio: Acceso a los servicios web de 
END:VALARM
END:VEVENT
END:VCALENDAR