BEGIN:VCALENDAR
VERSION:2.0
PRODID:-//Contratero//ES
CALSCALE:GREGORIAN
METHOD:PUBLISH
BEGIN:VEVENT
UID:2020/003492@contratero.es
DTSTAMP:20260424T195755Z
DTSTART:20201015T235959
DTEND:20201016T005959
SUMMARY:Cierre: Ampliación de la infraestructura y soporte PaaS ex
DESCRIPTION:Ampliación de la infraestructura y soporte PaaS existente\, así como la gestión de licencias de los sistemas del entorno de automatización\, cofinanciado con fondos Feder (2014-2020)-1502TO20SER00108\\n\\nOrganismo: Secretaría General de la Consejería de Hacienda y Administraciones Públicas de la Junta de Comunidades de Castilla-La Mancha\\n\\nVer en Contratero: https://contratero.es/contracts/2020/003492
URL:https://contratero.es/contracts/2020/003492
STATUS:CONFIRMED
BEGIN:VALARM
TRIGGER:-P1D
ACTION:DISPLAY
DESCRIPTION:Recordatorio: Ampliación de la infraestructu
END:VALARM
END:VEVENT
END:VCALENDAR