BEGIN:VCALENDAR
VERSION:2.0
PRODID:-//Contratero//ES
CALSCALE:GREGORIAN
METHOD:PUBLISH
BEGIN:VEVENT
UID:2020/027.SER.NGSP.UC@contratero.es
DTSTAMP:20260426T035303Z
DTSTART:20200810T235959
DTEND:20200811T005959
SUMMARY:Cierre: Servicio mantenimiento y soporte técnico anual de 
DESCRIPTION:Servicio mantenimiento y soporte técnico anual de las licencias de software del programa de Salud Laboral “WinMedtra”\, del Programa de Seguridad e Higiene “Windsehtra” y del “Portal del empleado”de A....\\n\\nOrganismo: Gerencia de la Universidad de Alcalá\\n\\nVer en Contratero: https://contratero.es/contracts/2020/027.SER.NGSP.UC
URL:https://contratero.es/contracts/2020/027.SER.NGSP.UC
STATUS:CONFIRMED
BEGIN:VALARM
TRIGGER:-P1D
ACTION:DISPLAY
DESCRIPTION:Recordatorio: Servicio mantenimiento y sopor
END:VALARM
END:VEVENT
END:VCALENDAR