BEGIN:VCALENDAR
VERSION:2.0
PRODID:-//Contratero//ES
CALSCALE:GREGORIAN
METHOD:PUBLISH
BEGIN:VEVENT
UID:2020/039@contratero.es
DTSTAMP:20260423T015653Z
DTSTART:20201005T235959
DTEND:20201006T005959
SUMMARY:Cierre: Servicio para la adquisición\, implantación y mante
DESCRIPTION:Servicio para la adquisición\, implantación y mantenimiento de un sistema de información para la gestión\, recaudación e inspección de los ingresos del  Ayuntamiento de Córdoba\, así como de los demás se...\\n\\nOrganismo: Junta de Gobierno del Ayuntamiento de Córdoba\\n\\nVer en Contratero: https://contratero.es/contracts/2020/039
URL:https://contratero.es/contracts/2020/039
STATUS:CONFIRMED
BEGIN:VALARM
TRIGGER:-P1D
ACTION:DISPLAY
DESCRIPTION:Recordatorio: Servicio para la adquisición\, 
END:VALARM
END:VEVENT
END:VCALENDAR