BEGIN:VCALENDAR
VERSION:2.0
PRODID:-//Contratero//ES
CALSCALE:GREGORIAN
METHOD:PUBLISH
BEGIN:VEVENT
UID:2020/060.SER.ABRSA.MC@contratero.es
DTSTAMP:20260425T191615Z
DTSTART:20201120T235959
DTEND:20201121T005959
SUMMARY:Cierre: Servicio para la puesta en marcha\, soporte\, manten
DESCRIPTION:Servicio para la puesta en marcha\, soporte\, mantenimiento y actualización de un sistema de gestión editorial\, la adquisición del software necesario para su funcionamiento y 6 licencias\\n\\nOrganismo: Gerencia de la Universidad de Alcalá\\n\\nVer en Contratero: https://contratero.es/contracts/2020/060.SER.ABRSA.MC
URL:https://contratero.es/contracts/2020/060.SER.ABRSA.MC
STATUS:CONFIRMED
BEGIN:VALARM
TRIGGER:-P1D
ACTION:DISPLAY
DESCRIPTION:Recordatorio: Servicio para la puesta en mar
END:VALARM
END:VEVENT
END:VCALENDAR