BEGIN:VCALENDAR
VERSION:2.0
PRODID:-//Contratero//ES
CALSCALE:GREGORIAN
METHOD:PUBLISH
BEGIN:VEVENT
UID:2020/068.SER.ABRSA.MC@contratero.es
DTSTAMP:20260426T002938Z
DTSTART:20201113T235959
DTEND:20201114T005959
SUMMARY:Cierre: Servicio de soporte sobre el gestor de contenidos 
DESCRIPTION:Servicio de soporte sobre el gestor de contenidos basado en OpenCms\, así como el mantenimiento del propio sistema\\n\\nOrganismo: Gerencia de la Universidad de Alcalá\\n\\nVer en Contratero: https://contratero.es/contracts/2020/068.SER.ABRSA.MC
URL:https://contratero.es/contracts/2020/068.SER.ABRSA.MC
STATUS:CONFIRMED
BEGIN:VALARM
TRIGGER:-P1D
ACTION:DISPLAY
DESCRIPTION:Recordatorio: Servicio de soporte sobre el g
END:VALARM
END:VEVENT
END:VCALENDAR