BEGIN:VCALENDAR
VERSION:2.0
PRODID:-//Contratero//ES
CALSCALE:GREGORIAN
METHOD:PUBLISH
BEGIN:VEVENT
UID:2020/285-GUA@contratero.es
DTSTAMP:20260422T161858Z
DTSTART:20201112T235959
DTEND:20201113T005959
SUMMARY:Cierre: Contrato administrativo de Servicios de Mantenimie
DESCRIPTION:Contrato administrativo de Servicios de Mantenimiento de aplicativos adquiridos a la empresa Abaco\, Centro de estudios Informáticos\, SL.\\n\\nOrganismo: Junta de Gobierno del Ayuntamiento de Aspe\\n\\nVer en Contratero: https://contratero.es/contracts/2020/285-GUA
URL:https://contratero.es/contracts/2020/285-GUA
STATUS:CONFIRMED
BEGIN:VALARM
TRIGGER:-P1D
ACTION:DISPLAY
DESCRIPTION:Recordatorio: Contrato administrativo de Ser
END:VALARM
END:VEVENT
END:VCALENDAR