BEGIN:VCALENDAR
VERSION:2.0
PRODID:-//Contratero//ES
CALSCALE:GREGORIAN
METHOD:PUBLISH
BEGIN:VEVENT
UID:2020/3351@contratero.es
DTSTAMP:20260425T172902Z
DTSTART:20201231T235959
DTEND:20210101T005959
SUMMARY:Cierre: Servicio integral de mantenimiento\, actualizacione
DESCRIPTION:Servicio integral de mantenimiento\, actualizaciones y soporte técnico del software del Portal de Transparencia\\n\\nOrganismo: Junta de Gobierno del Ayuntamiento Campo de Criptana\\n\\nVer en Contratero: https://contratero.es/contracts/2020/3351
URL:https://contratero.es/contracts/2020/3351
STATUS:CONFIRMED
BEGIN:VALARM
TRIGGER:-P1D
ACTION:DISPLAY
DESCRIPTION:Recordatorio: Servicio integral de mantenimi
END:VALARM
END:VEVENT
END:VCALENDAR