BEGIN:VCALENDAR
VERSION:2.0
PRODID:-//Contratero//ES
CALSCALE:GREGORIAN
METHOD:PUBLISH
BEGIN:VEVENT
UID:2020/4347@contratero.es
DTSTAMP:20260421T104323Z
DTSTART:20200721T235959
DTEND:20200722T005959
SUMMARY:Cierre: Contratación del Servicio Puesta En Marcha Y Evolu
DESCRIPTION:Contratación del Servicio Puesta En Marcha Y Evolución Del Portal Web Del Servicio Municipal De Consumo Virtual Del Ayuntamiento De Armilla\\n\\nOrganismo: Alcaldía del Ayuntamiento de Armilla\\n\\nVer en Contratero: https://contratero.es/contracts/2020/4347
URL:https://contratero.es/contracts/2020/4347
STATUS:CONFIRMED
BEGIN:VALARM
TRIGGER:-P1D
ACTION:DISPLAY
DESCRIPTION:Recordatorio: Contratación del Servicio Pues
END:VALARM
END:VEVENT
END:VCALENDAR