BEGIN:VCALENDAR
VERSION:2.0
PRODID:-//Contratero//ES
CALSCALE:GREGORIAN
METHOD:PUBLISH
BEGIN:VEVENT
UID:2020/4602@contratero.es
DTSTAMP:20260425T011149Z
DTSTART:20200720T235959
DTEND:20200721T005959
SUMMARY:Cierre: suministro de despliegue ilimitado de licencias de
DESCRIPTION:suministro de despliegue ilimitado de licencias de Base de Datos Oracle y opciones de Base de Datos y del producto Database Lifecycle Management y de licencias Siebel\, así como actualización y manteni...\\n\\nOrganismo: Gerencia de Informática de la Seguridad Social\\n\\nVer en Contratero: https://contratero.es/contracts/2020/4602
URL:https://contratero.es/contracts/2020/4602
STATUS:CONFIRMED
BEGIN:VALARM
TRIGGER:-P1D
ACTION:DISPLAY
DESCRIPTION:Recordatorio: suministro de despliegue ilimi
END:VALARM
END:VEVENT
END:VCALENDAR