BEGIN:VCALENDAR
VERSION:2.0
PRODID:-//Contratero//ES
CALSCALE:GREGORIAN
METHOD:PUBLISH
BEGIN:VEVENT
UID:2020/730@contratero.es
DTSTAMP:20260425T190908Z
DTSTART:20210114T235959
DTEND:20210115T005959
SUMMARY:Cierre: Servicios de mantenimiento y soporte del Sistema d
DESCRIPTION:Servicios de mantenimiento y soporte del Sistema de virtualización basado en VMWARE VSPHERE\, además del mantenimiento y soporte técnico de un FiREWALL FORTINET FG-201E de Mercados Centrales de Abastec...\\n\\nOrganismo: Dirección General de Mercados Centrales de Abastecimiento de Sevilla S.A. (MERCASEVILLA S.A.)\\n\\nVer en Contratero: https://contratero.es/contracts/2020/730
URL:https://contratero.es/contracts/2020/730
STATUS:CONFIRMED
BEGIN:VALARM
TRIGGER:-P1D
ACTION:DISPLAY
DESCRIPTION:Recordatorio: Servicios de mantenimiento y s
END:VALARM
END:VEVENT
END:VCALENDAR