BEGIN:VCALENDAR
VERSION:2.0
PRODID:-//Contratero//ES
CALSCALE:GREGORIAN
METHOD:PUBLISH
BEGIN:VEVENT
UID:2020/77086@contratero.es
DTSTAMP:20260421T092053Z
DTSTART:20200929T235959
DTEND:20200930T005959
SUMMARY:Cierre: Servicio para el diseño\, implantación y mantenimie
DESCRIPTION:Servicio para el diseño\, implantación y mantenimiento de códigos QR (Códigos de respuesta rápida) vía microsite y de una app turística en la Ciudad de Ceuta\\n\\nOrganismo: Consejo de Administración de Servicios Turísticos de Ceuta\, S.L.\\n\\nVer en Contratero: https://contratero.es/contracts/2020/77086
URL:https://contratero.es/contracts/2020/77086
STATUS:CONFIRMED
BEGIN:VALARM
TRIGGER:-P1D
ACTION:DISPLAY
DESCRIPTION:Recordatorio: Servicio para el diseño\, impla
END:VALARM
END:VEVENT
END:VCALENDAR