BEGIN:VCALENDAR
VERSION:2.0
PRODID:-//Contratero//ES
CALSCALE:GREGORIAN
METHOD:PUBLISH
BEGIN:VEVENT
UID:2020/OFI_01/000073@contratero.es
DTSTAMP:20260424T235646Z
DTSTART:20200520T235959
DTEND:20200521T005959
SUMMARY:Cierre: Asistencia técnica para la gestión\, mantenimiento\,
DESCRIPTION:Asistencia técnica para la gestión\, mantenimiento\, actualización y seguimiento de la web municipal\\n\\nOrganismo: Alcaldía del Ayuntamiento de Millares\\n\\nVer en Contratero: https://contratero.es/contracts/2020/OFI_01/000073
URL:https://contratero.es/contracts/2020/OFI_01/000073
STATUS:CONFIRMED
BEGIN:VALARM
TRIGGER:-P1D
ACTION:DISPLAY
DESCRIPTION:Recordatorio: Asistencia técnica para la ges
END:VALARM
END:VEVENT
END:VCALENDAR