BEGIN:VCALENDAR
VERSION:2.0
PRODID:-//Contratero//ES
CALSCALE:GREGORIAN
METHOD:PUBLISH
BEGIN:VEVENT
UID:2020/S218/0008@contratero.es
DTSTAMP:20260422T201318Z
DTSTART:20200629T235959
DTEND:20200630T005959
SUMMARY:Cierre: Mantenimiento del programa de copias de seguridad 
DESCRIPTION:Mantenimiento del programa de copias de seguridad Veeam Backup Essentials Enterprise Plus 2 socket bundle for\nVMware.\\n\\nOrganismo: Alcaldía del Ayuntamiento de Xirivella\\n\\nVer en Contratero: https://contratero.es/contracts/2020/S218/0008
URL:https://contratero.es/contracts/2020/S218/0008
STATUS:CONFIRMED
BEGIN:VALARM
TRIGGER:-P1D
ACTION:DISPLAY
DESCRIPTION:Recordatorio: Mantenimiento del programa de 
END:VALARM
END:VEVENT
END:VCALENDAR