BEGIN:VCALENDAR
VERSION:2.0
PRODID:-//Contratero//ES
CALSCALE:GREGORIAN
METHOD:PUBLISH
BEGIN:VEVENT
UID:2020008312@contratero.es
DTSTAMP:20260425T122526Z
DTSTART:20190512T235959
DTEND:20190513T005959
SUMMARY:Cierre: Cesión temporal del derecho de uso y mantenimiento
DESCRIPTION:Cesión temporal del derecho de uso y mantenimiento con soporte de licencias de productos Microsoft para la Gerencia Regional de Salud de Castilla y León.\\n\\nOrganismo: Gerencia Regional de Salud de Castilla y León\\n\\nVer en Contratero: https://contratero.es/contracts/2020008312
URL:https://contratero.es/contracts/2020008312
STATUS:CONFIRMED
BEGIN:VALARM
TRIGGER:-P1D
ACTION:DISPLAY
DESCRIPTION:Recordatorio: Cesión temporal del derecho de
END:VALARM
END:VEVENT
END:VCALENDAR