BEGIN:VCALENDAR
VERSION:2.0
PRODID:-//Contratero//ES
CALSCALE:GREGORIAN
METHOD:PUBLISH
BEGIN:VEVENT
UID:2020013672@contratero.es
DTSTAMP:20260425T163406Z
DTSTART:20230810T235959
DTEND:20230811T005959
SUMMARY:Cierre: Cesión de uso de licencias de doble factor de aute
DESCRIPTION:Cesión de uso de licencias de doble factor de autenticación de empleados de la Gerencia Regional de Salud.\\n\\nOrganismo: Gerencia Regional de Salud de Castilla y León\\n\\nVer en Contratero: https://contratero.es/contracts/2020013672
URL:https://contratero.es/contracts/2020013672
STATUS:CONFIRMED
BEGIN:VALARM
TRIGGER:-P1D
ACTION:DISPLAY
DESCRIPTION:Recordatorio: Cesión de uso de licencias de 
END:VALARM
END:VEVENT
END:VCALENDAR